BEGIN:VCALENDAR
VERSION:2.0
PRODID:-//wp-events-plugin.com//7.2.3.1//EN
BEGIN:VEVENT
UID:43@norbert-fuhr.de
DTSTART;TZID=Europe/Berlin:20260710T100000
DTEND;TZID=Europe/Berlin:20260712T130000
DTSTAMP:20260407T154155Z
URL:https://norbert-fuhr.de/kurs/ahnf-spritzenkurs-2/
SUMMARY:AHNF Spritzenkurs
DESCRIPTION:\nAHNF Spritzenkurs\nDiagnostische und therapeutische Injektion
 en mit TLA und Ozon in der AHNF\nIn diesem Kurs werden spezielle Injektion
 stechniken gezeigt\, die auf die Autonome Atmungs- und Haltungsregulation 
 nach Fuhr (AHNF) abgestimmt sind.\nDer Einsatz von Ozon- und Neuraltherapi
 e ist in der AHNF unverzichtbar und ist in der Kombination ein absoluter G
 amechanger\n\nDie systemische Gabe von Ozon/Sauerstoff ist in der Behandlu
 ng von Long/Post CoVid eine unverzichtbare Therapiemethode. Auch hier kön
 nen wir in Kombination mit der AHNF\, wo die Beweglichkeit des Zwerchfells
  wieder hergestellt wird\,  vielen Menschen hervorragend helfen.\n\nAuszu
 g aus den Inhalten:\n Injektionen an Gelenk(kapseln)\, Sehnen\, Schleimbeu
 teln\, Facettengelenken\, Plantarfaszie\n Ozon-Hochdosis-Therapie (OHT) be
 i Post/LongCoVid\n AHNF-Grundlagen zur Mobilisation des Zwerchfells\n uvm.
 \nWas ist im Preis enthalten:\n Tagungsgetränke  Pausensnacks\n\nDatum\nF
 reitag 10.07.26\n15.00 – 19.00 Uhr\n\nSamstag 11.07.26\n09.00 – 18.00 
 Uhr\n\nSonntag 12.07.26\n09.00 – 13.00 Uhr\n\n\nEinzelpreis\n1050\,00 
 €\n\n\nOrt\nSympathie Hotel Fürstenhof\nKurhausstraße 20\n55543 Bad Kr
 euznach\n\n\nSeminarleitung\nNorbert Fuhr\nMedizinische Leitung\nDr. med. 
 Siddhartha Popat\n\n
CATEGORIES:Workshops
LOCATION:Hotel Fürstenhof\, Kurhausstraße 20\, Bad Kreuznach\, 55543\, De
 utschland
X-APPLE-STRUCTURED-LOCATION;VALUE=URI;X-ADDRESS=Kurhausstraße 20\, Bad Kre
 uznach\, 55543\, Deutschland;X-APPLE-RADIUS=100;X-TITLE=Hotel Fürstenhof:
 geo:0,0
END:VEVENT
BEGIN:VTIMEZONE
TZID:Europe/Berlin
X-LIC-LOCATION:Europe/Berlin
BEGIN:DAYLIGHT
DTSTART:20260329T030000
TZOFFSETFROM:+0100
TZOFFSETTO:+0200
TZNAME:CEST
END:DAYLIGHT
END:VTIMEZONE
END:VCALENDAR