BEGIN:VCALENDAR
VERSION:2.0
PRODID:-//wp-events-plugin.com//7.2.3.1//EN
BEGIN:VEVENT
UID:39@norbert-fuhr.de
DTSTART;TZID=Europe/Berlin:20260605T093000
DTEND;TZID=Europe/Berlin:20260606T123000
DTSTAMP:20260202T153501Z
URL:https://norbert-fuhr.de/kurs/jubilaeum/
SUMMARY:5 Jahre AHNF: Großes Jubiläum
DESCRIPTION:\n5 Jahre AHNF – Unser großes Jubiläum!\nFreut Euch auf ein
  abwechslungsreiches Programm mit Vorträgen\, Podiumsdiskussionen. Am Fre
 itagabend erwartet Euch ein großes Dinnerbuffet und im Anschluss Live Mus
 ik .\nAlle unsere AHNFler sind herzlich eingeladen – das Event ist für 
 Euch kostenlos! Diese Einladung ist unser Dankeschön an Euch\, denn ohne 
 Eure Treue\, Eure Offenheit für Neues\, Euren Einsatz\, die AHNF in die W
 elt hinauszutragen\, sowie die vielen wertvollen Freundschaften\, die ents
 tanden sind\, gäbe es die Akademie nicht.\nEure Unterstützung bestärkt 
 uns darin\, weiterzumachen und motiviert uns sehr. Wir freuen uns schon je
 tzt darauf\, viele von Euch bei diesem besonderen Anlass wiederzusehen!\nA
 HNF-Interessierte dürfen ebenfalls gerne mitgebracht werden.\nFür eine r
 eibungslose Planung bitten wir um eine verbindliche Zusage bis spätestens
  03. Mai 2026.\n\n\nDatum\nFreitag\, 05.06.\n09:30 – 12:00 | AHNF-Updat
 e\n12:00 – 14:00 | Mittagspause\n14:00 – 18:00 | AHNF-Kongress: Vortr
 äge\, Podiumsdiskussionen\n18:00 – 19:00 | Pause\n19:00 – 21:30 | Din
 ner-Buffet\nAb 21:30 | Live-Musik\, Party\n\nSamstag\, 06.06.\n09:00 – 1
 2:30 | AHNF-Kongress: Vorträge\, Podiumsdiskussionen\n\n\nOrt\nParkhotel 
 Kurhaus\nKurhausstraße 28\n55543 Bad Kreuznach\n\n
CATEGORIES:Workshops
LOCATION:Parkhotel Kurhaus\, Kurhausstraße 28\, Bad Kreuznach\, 55543\, De
 utschland
X-APPLE-STRUCTURED-LOCATION;VALUE=URI;X-ADDRESS=Kurhausstraße 28\, Bad Kre
 uznach\, 55543\, Deutschland;X-APPLE-RADIUS=100;X-TITLE=Parkhotel Kurhaus:
 geo:0,0
END:VEVENT
BEGIN:VTIMEZONE
TZID:Europe/Berlin
X-LIC-LOCATION:Europe/Berlin
BEGIN:DAYLIGHT
DTSTART:20260329T030000
TZOFFSETFROM:+0100
TZOFFSETTO:+0200
TZNAME:CEST
END:DAYLIGHT
END:VTIMEZONE
END:VCALENDAR