BEGIN:VCALENDAR
VERSION:2.0
PRODID:-//wp-events-plugin.com//7.2.3.1//EN
BEGIN:VEVENT
UID:37@norbert-fuhr.de
DTSTART;TZID=Europe/Berlin:20260925T100000
DTEND;TZID=Europe/Berlin:20260927T130000
DTSTAMP:20260407T154242Z
URL:https://norbert-fuhr.de/kurs/modul-i-grundkurs-ahnf-4-2/
SUMMARY:Modul I – Grundkurs AHNF
DESCRIPTION:\nModul I - Grundkurs\nDer Grundkurs umfasst die ersten Baustei
 ne\, die einen sehr großen Einfluss auf die Regulation der Körperstatik 
 haben. Ist ein Baustein verschoben\, blockiert er das gesamte System\, ent
 weder mit einer auf- oder absteigenden Wirkungskette. In diesem Seminar ve
 rstehen Sie\, warum der Körper nicht in der Lage ist sich ohne Hilfe von 
 außen selbst zu regulieren und wie Sie das körpereigene Gleichgewicht wi
 ederherstellen.\n\nAuszug aus den Inhalten:\n Haltungsanalyse von Fuß bis
  Kopf\n Neuronale\, paradoxe CMD-Verschaltung\n Grundlagen der Polyvagalth
 eorie\n Ausgleich von Asymmetrien (Kiefergelenk\, Becken\, Beinlänge etc.
 )\n Ausgleich von Fußblockierungen mit Vorher-nachher-Vergleich\n Intraor
 ale Palpation\n Mobilisation des Zungenbeins und der Raphe Palatina\n „D
 as Tor zur Seele“\nWas ist im Preis enthalten:\n Tagungsgetränke  Pause
 nsnacks  Aufnahme in die große AHNF-Telegramgruppe  Seminarskript\n\nDatu
 m\nFreitag 25.09.26\n10.00 – 18.30 Uhr\n\nSamstag 26.09.26\n09.00 – 18
 .00 Uhr\n\nSonntag 27.09.26\n09.00 – 13.00 Uhr\n\n\nEinzelpreis\n1090\,0
 0 €\nPaketpreis\n990\,00 € pro Kurs\nbei Buchung aller 3 Module (Termi
 ne frei wählbar)\n\n\nOrt\nParkhotel Kurhaus\nKurhausstraße 28\n55543 Ba
 d Kreuznach\n\n\nSeminarleitung\nNorbert Fuhr\nMedizinische Leitung\nDr. m
 ed. Siddhartha Popat\n\n
CATEGORIES:Grundkurse
LOCATION:Parkhotel Kurhaus\, Kurhausstraße 28\, Bad Kreuznach\, 55543\, De
 utschland
X-APPLE-STRUCTURED-LOCATION;VALUE=URI;X-ADDRESS=Kurhausstraße 28\, Bad Kre
 uznach\, 55543\, Deutschland;X-APPLE-RADIUS=100;X-TITLE=Parkhotel Kurhaus:
 geo:0,0
END:VEVENT
BEGIN:VTIMEZONE
TZID:Europe/Berlin
X-LIC-LOCATION:Europe/Berlin
BEGIN:DAYLIGHT
DTSTART:20260329T030000
TZOFFSETFROM:+0100
TZOFFSETTO:+0200
TZNAME:CEST
END:DAYLIGHT
END:VTIMEZONE
END:VCALENDAR