BEGIN:VCALENDAR
VERSION:2.0
PRODID:-//wp-events-plugin.com//7.2.3.1//EN
BEGIN:VEVENT
UID:34@norbert-fuhr.de
DTSTART;TZID=Europe/Berlin:20260424T100000
DTEND;TZID=Europe/Berlin:20260426T130000
DTSTAMP:20260407T153530Z
URL:https://norbert-fuhr.de/kurs/modul-ii-aufbaukurs/
SUMMARY:Modul II - Aufbaukurs AHNF
DESCRIPTION:\nModul II - Aufbaukurs\nDer Masterkurs vertieft und ergänzt d
 as Wissen und die erlernten Techniken mit dem Fokus auf die intraorale Beh
 andlung. Wir lernen\, den Mund innen zu palpieren\, mögliche Blockierunge
 n der Schädelnähte oder des Zungenbeins zu erkennen und sanft zu mobilis
 ieren.\nWichtige Themen wie Knirschen/Beißen\, die Wirkung von Zahnspange
 n\, Nachtschienen etc werden beleuchtet.\nVoraussetzung:\nTeilnahme am Mod
 ul I\nAuszug aus den Inhalten:\n Mobilisation der HWS\n Mobilisation der B
 WS (ohne Chirotherapie)\n Unterscheidung afferenter und efferenter Störun
 gen/Ursachen\n Akupressur am Herzchakra und Solar Plexus\n Entspannung des
  Zwerchfells und Iliopsoas\n Einbeziehung der sog. Korrespondierenden Punk
 te\nWas ist im Preis enthalten:\n Tagungsgetränke  Pausensnacks  Teilnahm
 e an regelmäßigen Livezooms mit Norbert  Seminarskript\n\nDatum\nFreitag
  24.04.26\n10.00 - 18.30 Uhr\n\nSamstag 25.04.26\n09.00 - 18.00 Uhr\n\nSon
 ntag 26.04.26\n09.00 - 13.00 Uhr\n\n\nEinzelpreis\n1090\,00 €\nPaketprei
 s\n990\,00 € pro Kurs\nbei Buchung aller 3 Module (Termine frei wählbar
 )\n\n\nOrt\nParkhotel Kurhaus\nKurhausstraße 28\n55543 Bad Kreuznach\n\n\
 nSeminarleitung\nNorbert Fuhr\nMedizinische Leitung\nDr. med. Siddhartha P
 opat\n\n
CATEGORIES:Grundkurse
LOCATION:Parkhotel Kurhaus\, Kurhausstraße 28\, Bad Kreuznach\, 55543\, De
 utschland
X-APPLE-STRUCTURED-LOCATION;VALUE=URI;X-ADDRESS=Kurhausstraße 28\, Bad Kre
 uznach\, 55543\, Deutschland;X-APPLE-RADIUS=100;X-TITLE=Parkhotel Kurhaus:
 geo:0,0
END:VEVENT
BEGIN:VTIMEZONE
TZID:Europe/Berlin
X-LIC-LOCATION:Europe/Berlin
BEGIN:DAYLIGHT
DTSTART:20260329T030000
TZOFFSETFROM:+0100
TZOFFSETTO:+0200
TZNAME:CEST
END:DAYLIGHT
END:VTIMEZONE
END:VCALENDAR