BEGIN:VCALENDAR
VERSION:2.0
PRODID:-//wp-events-plugin.com//7.2.3.1//EN
BEGIN:VEVENT
UID:50@norbert-fuhr.de
DTSTART;TZID=Europe/Berlin:20270122T100000
DTEND;TZID=Europe/Berlin:20270124T130000
DTSTAMP:20260407T154415Z
URL:https://norbert-fuhr.de/kurs/modul-iii-masterkurs-ahnf-2-2/
SUMMARY:Modul III - Masterkurs AHNF
DESCRIPTION:\nModul III - Masterkurs\nDer Masterkurs vertieft und ergänzt 
 das Wissen und die erlernten Techniken mit dem Fokus auf die Schädelbehan
 dlung. Wir lernen\, die Suturen zu palpieren\, mögliche Blockierungen der
  Schädelnähte oder der Schädelplatten zu erkennen und diese sanft zu mo
 bilisieren.\nWichtige Themen wie Knirschen/Beißen\, die Wirkung von Zahns
 pangen\, Nachtschienen etc werden beleuchtet.\nVoraussetzung:\nTeilnahme a
 m Modul I &amp\; Modul II\nAuszug aus den Inhalten:\n Intensive Schädelbe
 handlung (Die sanfte Mobilisation der Schädelplatten wie z.B. des Os Occi
 pitale\, Os Frontale\, Os Parietale etc.))\n Mobilisation des Gesichtssch
 ädels\, der Nase\, des Mundbodens\n Arbeit mit den zum Schädel korrespon
 dierenden Punkten usw.\n Ursachenorientierte\, ganzheitliche Diagnostik un
 d Therapie des Knirschens\n Zertifizierung für das AHNF-Therapeutennetzwe
 rk\nGrundlagen der Polyvagaltheorie\nVorstellung von weichen Schienen in K
 ombination mit AHNF\nWas ist im Preis enthalten:\n Tagungsgetränke  Pause
 nsnacks  Aufnahme in unser europaweites Therapeutennetzwerk  Seminarskript
 \n\nDatum\nFreitag 22.01.27\n10.00 - 17.00 Uhr\n\nSamstag 23.01.27\n09.00 
 - 17.00 Uhr\n\nSonntag 24.01.27\n09.00 - 13.00 Uhr\n\n\nEinzelpreis\n1090\
 ,00 €\nPaketpreis\n990\,00 € pro Kurs\nbei Buchung aller 3 Module (Ter
 mine frei wählbar)\n\n\nOrt\nParkhotel Kurhaus\nKurhausstraße 28\n55543 
 Bad Kreuznach\n\n\nSeminarleitung\nNorbert Fuhr\nMedizinische Leitung\nDr.
  med. Siddhartha Popat\n\n
CATEGORIES:Grundkurse
LOCATION:Parkhotel Kurhaus\, Kurhausstraße 28\, Bad Kreuznach\, 55543\, De
 utschland
X-APPLE-STRUCTURED-LOCATION;VALUE=URI;X-ADDRESS=Kurhausstraße 28\, Bad Kre
 uznach\, 55543\, Deutschland;X-APPLE-RADIUS=100;X-TITLE=Parkhotel Kurhaus:
 geo:0,0
END:VEVENT
BEGIN:VTIMEZONE
TZID:Europe/Berlin
X-LIC-LOCATION:Europe/Berlin
BEGIN:STANDARD
DTSTART:20261025T020000
TZOFFSETFROM:+0200
TZOFFSETTO:+0100
TZNAME:CET
END:STANDARD
END:VTIMEZONE
END:VCALENDAR