BEGIN:VCALENDAR
VERSION:2.0
PRODID:-//wp-events-plugin.com//7.2.3.1//EN
BEGIN:VEVENT
UID:36@norbert-fuhr.de
DTSTART;TZID=Europe/Berlin:20260619T100000
DTEND;TZID=Europe/Berlin:20260621T130000
DTSTAMP:20260407T153803Z
URL:https://norbert-fuhr.de/kurs/modul-iii-masterkurs-ahnf-2/
SUMMARY:Modul III - Masterkurs AHNF
DESCRIPTION:\nModul III - Masterkurs\nDer Masterkurs vertieft und ergänzt 
 das Wissen und die erlernten Techniken mit dem Fokus auf die Schädelbehan
 dlung. Wir lernen\, die Suturen zu palpieren\, mögliche Blockierungen der
  Schädelnähte oder der Schädelplatten zu erkennen und diese sanft zu mo
 bilisieren.\nWichtige Themen wie Knirschen/Beißen\, die Wirkung von Zahns
 pangen\, Nachtschienen etc werden beleuchtet.\nVoraussetzung:\nTeilnahme a
 m Modul I &amp\; Modul II\nAuszug aus den Inhalten:\n Intensive Schädelbe
 handlung (Die sanfte Mobilisation der Schädelplatten wie z.B. des Os Occi
 pitale\, Os Frontale\, Os Parietale etc.))\n Mobilisation des Gesichtssch
 ädels\, der Nase\, des Mundbodens\n Arbeit mit den zum Schädel korrespon
 dierenden Punkten usw.\n Ursachenorientierte\, ganzheitliche Diagnostik un
 d Therapie des Knirschens\n Zertifizierung für das AHNF-Therapeutennetzwe
 rk\nGrundlagen der Polyvagaltheorie\nVorstellung von weichen Schienen in K
 ombination mit AHNF\nWas ist im Preis enthalten:\n Tagungsgetränke  Pause
 nsnacks  Aufnahme in unser europaweites Therapeutennetzwerk  Seminarskript
 \n\nDatum\nFreitag 19.06.26\n10.00 - 17.00 Uhr\n\nSamstag 20.06.26\n09.00 
 - 17.00 Uhr\n\nSonntag 21.06.26\n09.00 - 13.00 Uhr\n\n\nEinzelpreis\n1090\
 ,00 €\nPaketpreis\n990\,00 € pro Kurs\nbei Buchung aller 3 Module (Ter
 mine frei wählbar)\n\n\nOrt\nwird noch bekannt gegeben\n\n\nSeminarleitun
 g\nNorbert Fuhr\nMedizinische Leitung\nDr. med. Siddhartha Popat\n\n
CATEGORIES:Grundkurse
END:VEVENT
BEGIN:VTIMEZONE
TZID:Europe/Berlin
X-LIC-LOCATION:Europe/Berlin
BEGIN:DAYLIGHT
DTSTART:20260329T030000
TZOFFSETFROM:+0100
TZOFFSETTO:+0200
TZNAME:CEST
END:DAYLIGHT
END:VTIMEZONE
END:VCALENDAR