BEGIN:VCALENDAR
VERSION:2.0
PRODID:-//wp-events-plugin.com//7.2.3.1//EN
BEGIN:VEVENT
UID:35@norbert-fuhr.de
DTSTART;TZID=Europe/Berlin:20260508T150000
DTEND;TZID=Europe/Berlin:20260510T130000
DTSTAMP:20260407T153644Z
URL:https://norbert-fuhr.de/kurs/obere-extremitaet-ahnf-gym-3-2/
SUMMARY:Obere Extremität + AHNF GYM
DESCRIPTION:\nObere Extremität + AHNF GYM\nIn der Praxis begegnen uns imme
 r mehr Patienten mit Schulterproblemen\, Sehnenscheidenentzündung\, Tenni
 sarm\, Karpaltunnelsyndrom usw.\nOft führen diese Beschwerden zu Operatio
 nen\, die vermeidbar wären.\nHinweis:\nBitte eigene Gymnastikmatte mitbri
 ngen!\n\nVorraussetzung:\nTeilnahme Modul I - Grundkurs\nAuszug aus den In
 halten:\n Testung und Mobilisation der Handwurzel und des Daumensattelgele
 nks\n Mobilisation der Mittelhand\n Mobilsiation von Radius und Ulnar\n Mo
 bilisation des Humerus und des AC-Gelenks\n Sport- und Trainingsberatung\n
  Faszientraining durch aktives Stretching\n Propriozeptives Training zur V
 erbesserung der Reflexe und Schnelligkeit\n Gymnastik und Aufwärmübungen
  als „Hilfe zur Selbsthilfe“ in der AHNF für Therapeut und Patient\nW
 as ist im Preis enthalten:\n Tagungsgetränke  Pausensnacks\n\nDatum\nFrei
 tag 08.05.26\n15.00 – 19.00 Uhr\n\nSamstag 09.05.26\n09.00 – 18.00 Uhr
 \n\nSonntag 10.05.26\n09.00 – 13.00 Uhr\n\n\nEinzelpreis\n790\,00 €\n\
 n\nOrt\nParkhotel Idar Oberstein\nHauptstraße 185\n55743 Idar-Oberstein\n
 \n\nSeminarleitung\nNorbert Fuhr\n\n
CATEGORIES:Workshops
LOCATION:Parkhotel Idar Oberstein\, Hauptstraße 185\, Idar-Oberstein\, 557
 43\, Deutschland
X-APPLE-STRUCTURED-LOCATION;VALUE=URI;X-ADDRESS=Hauptstraße 185\, Idar-Obe
 rstein\, 55743\, Deutschland;X-APPLE-RADIUS=100;X-TITLE=Parkhotel Idar Obe
 rstein:geo:0,0
END:VEVENT
BEGIN:VTIMEZONE
TZID:Europe/Berlin
X-LIC-LOCATION:Europe/Berlin
BEGIN:DAYLIGHT
DTSTART:20260329T030000
TZOFFSETFROM:+0100
TZOFFSETTO:+0200
TZNAME:CEST
END:DAYLIGHT
END:VTIMEZONE
END:VCALENDAR